BEGIN:VCALENDAR
PRODID:/Konzermeister/Konzertmeister/DE
CALSCALE:GREGORIAN
NAME:Konzertmeister
VERSION:2.0
BEGIN:VEVENT
DTSTAMP:20260424T142827Z
DTSTART:20260425T090000Z
DTEND:20260425T215500Z
SUMMARY:(-) Frühlingsfest (MG Alpenrösli Gommiswald)
UID:3477488
URL:https://web.konzertmeister.app/appointment/3477488
GEO:47.2326237;9.0239268
LOCATION:Rietwiesstrasse 11\, 8737 Gommiswald\, Schweiz
DESCRIPTION:Sonstiges - div. Helfereinsätze
END:VEVENT
BEGIN:VEVENT
DTSTAMP:20260424T142827Z
DTSTART:20260430T180000Z
DTEND:20260430T200000Z
SUMMARY:(+) Musikprobe (MG Alpenrösli Gommiswald)
UID:3212999
URL:https://web.konzertmeister.app/appointment/3212999
GEO:47.2326237;9.0239268
LOCATION:Rietwiesstrasse 11\, 8737 Gommiswald\, Schweiz
CATEGORIES:Statistik,Gesamtprobe,Registerprobe
DESCRIPTION:Probe
END:VEVENT
BEGIN:VEVENT
DTSTAMP:20260424T142827Z
DTSTART:20260504T180000Z
DTEND:20260504T200000Z
SUMMARY:(+) Musikprobe (MG Alpenrösli Gommiswald)
UID:3702731
URL:https://web.konzertmeister.app/appointment/3702731
LOCATION:Gemeindesaal Gommiswald
CATEGORIES:Statistik,Gesamtprobe
DESCRIPTION:Probe
END:VEVENT
BEGIN:VEVENT
DTSTAMP:20260424T142827Z
DTSTART:20260506T173000Z
DTEND:20260506T200000Z
SUMMARY:(-) Vorstandsitzung (MG Alpenrösli Gommiswald)
UID:3871876
URL:https://web.konzertmeister.app/appointment/3871876
CATEGORIES:Sitzung
DESCRIPTION:Sonstiges
END:VEVENT
BEGIN:VEVENT
DTSTAMP:20260424T142827Z
DTSTART:20260507T180000Z
DTEND:20260507T200000Z
SUMMARY:(+) Musikprobe (MG Alpenrösli Gommiswald)
UID:3213002
URL:https://web.konzertmeister.app/appointment/3213002
GEO:47.2326237;9.0239268
LOCATION:Rietwiesstrasse 11\, 8737 Gommiswald\, Schweiz
CATEGORIES:Statistik,Gesamtprobe,Registerprobe
DESCRIPTION:Probe
END:VEVENT
BEGIN:VEVENT
DTSTAMP:20260424T142827Z
DTSTART;VALUE=DATE:20260508
DTEND;VALUE=DATE:20260509
SUMMARY:(+) Helfereinsatz Raiffeisen-Fest (MG Alpenrösli Gommiswald)
UID:3639531
URL:https://web.konzertmeister.app/appointment/3639531
GEO:47.209587;9.022503799999999
LOCATION:Benknerstrasse 36\, 8722 Kaltbrunn\, Schweiz
CATEGORIES:Statistik
DESCRIPTION:Sonstiges - Service & Buffet-Personal \n17.00 Uhr Anmelden beim Team-Leader gem. Liste\nanschliessend Briefing mit Team-Leader\n17.30 - 18.15 Uhr Verpflegung in der Garage\n18.30 Uhr Start Service\n\nSchöpf-Personal\n19.00 Uhr Anmelden beim Team-Leader gem. Liste\nSchöpf-Station einrichten\n19.45 Uhr Service Vorspeise\n20.30 Uhr Sevice-Hauptgang\nanschliessend Station aufräumen\nPersonen\, welche in der Liste blau hinterlegt sind Dessert vorbereiten\n\nGeschirrückgabe-Personal\n19.00 Uhr beim Teamleiter melden\n\nAllgemein:\nTreffpunkt: in der Raiffeisen Arena (Inline Halle) Benknerstrasse\, Kaltbrunn (Eingang Garagentor Dorfseitig) \nEs darf nicht bei der Raiffeisen-Arena parkiert werden\, Notausgänge müssen zwingend freigehalten werden.\nBitte bei der ehemaligen Linth Möbel parkieren.\nBei Verhinderung bitte selber Ersatz organisieren.\nArbeitskleidung: schwarzes Oberteil und schwarze Hosen. Schürze wird zur Verfügung gestellt (wo nötig)
END:VEVENT
BEGIN:VEVENT
DTSTAMP:20260424T142827Z
DTSTART:20260513T180000Z
DTEND:20260513T200000Z
SUMMARY:(+) Hauptprobe EMF (MG Alpenrösli Gommiswald)
UID:3212988
URL:https://web.konzertmeister.app/appointment/3212988
GEO:47.2326237;9.0239268
LOCATION:Rietwiesstrasse 11\, 8737 Gommiswald\, Schweiz
CATEGORIES:Statistik,Gesamtprobe,Registerprobe
DESCRIPTION:Probe
END:VEVENT
BEGIN:VEVENT
DTSTAMP:20260424T142827Z
DTSTART:20260514T060000Z
DTEND:20260514T063000Z
SUMMARY:TP: Eidg. Musikfest Biel 2026
UID:3212965240808
GEO:47.2345243;9.0210749
LOCATION:Gommiswald\, Schweiz
DESCRIPTION:Genauer Treffpunkt wird bekannt gegeben
END:VEVENT
BEGIN:VEVENT
DTSTAMP:20260424T142827Z
DTSTART:20260514T060000Z
DTEND:20260517T150000Z
SUMMARY:(+) Eidg. Musikfest Biel 2026 (MG Alpenrösli Gommiswald)
UID:3212965
URL:https://web.konzertmeister.app/appointment/3212965
GEO:47.136875;7.246666
LOCATION:Biel\, Schweiz
CATEGORIES:Statistik,Website
DESCRIPTION:Auftritt - Eckpunkte:\n-Abfahrt Freitag ca. 07:30h in Gommiswald\n-geplanter Zwischenhalt in Unterkunft für Gepäck abladen danach mit Car nach Biel für Marschmusik / Konzertvortrag\n-Unterkunft: ZSA Reconvilier (Schlafsack mitnehmen)\nSamstag:\n-geplanter Transfer Reconvilier-Biel am Vormittag\n-Abfahrt Biel am Samstag Nachmittag: 14:00h\n-Zurück in Gommiswald: ca. 17:00h\n\nDetailprogramm wird noch bekannt gegeben
END:VEVENT
BEGIN:VEVENT
DTSTAMP:20260424T142827Z
DTSTART:20260521T180000Z
DTEND:20260521T200000Z
SUMMARY:(+) Alternativ Anlass / keine Musikprobe nach EMF (MG Alpenrösli Gommiswald)
UID:3213004
URL:https://web.konzertmeister.app/appointment/3213004
GEO:47.2326237;9.0239268
LOCATION:Rietwiesstrasse 11\, 8737 Gommiswald\, Schweiz
CATEGORIES:Statistik,Gesamtprobe,Registerprobe
DESCRIPTION:Probe - weitere Infos folgen
END:VEVENT
BEGIN:VEVENT
DTSTAMP:20260424T142827Z
DTSTART:20260528T173000Z
DTEND:20260528T193000Z
SUMMARY:(+) Probe mit Nachwuchsmusikanten Jugendmusik (MG Alpenrösli Gommiswald)
UID:3212967
URL:https://web.konzertmeister.app/appointment/3212967
LOCATION:Gemeindesaal Gommiswald
CATEGORIES:Statistik
DESCRIPTION:Probe
END:VEVENT
BEGIN:VEVENT
DTSTAMP:20260424T142827Z
DTSTART:20260604T180000Z
DTEND:20260604T200000Z
SUMMARY:(+) Musikprobe (MG Alpenrösli Gommiswald)
UID:3213006
URL:https://web.konzertmeister.app/appointment/3213006
GEO:47.2326237;9.0239268
LOCATION:Rietwiesstrasse 11\, 8737 Gommiswald\, Schweiz
CATEGORIES:Statistik,Gesamtprobe,Registerprobe
DESCRIPTION:Probe
END:VEVENT
BEGIN:VEVENT
DTSTAMP:20260424T142827Z
DTSTART:20260606T063000Z
DTEND:20260606T100000Z
SUMMARY:(+) MuKo-Sitzung inkl. Mittagessen (MG Alpenrösli Gommiswald)
UID:3148671
URL:https://web.konzertmeister.app/appointment/3148671
LOCATION:Musikzimmer
DESCRIPTION:Sonstiges
END:VEVENT
BEGIN:VEVENT
DTSTAMP:20260424T142827Z
DTSTART:20260611T180000Z
DTEND:20260611T200000Z
SUMMARY:(+) Musikprobe (MG Alpenrösli Gommiswald)
UID:3213007
URL:https://web.konzertmeister.app/appointment/3213007
GEO:47.2326237;9.0239268
LOCATION:Rietwiesstrasse 11\, 8737 Gommiswald\, Schweiz
CATEGORIES:Statistik,Gesamtprobe,Registerprobe
DESCRIPTION:Probe
END:VEVENT
BEGIN:VEVENT
DTSTAMP:20260424T142827Z
DTSTART:20260617T173000Z
DTEND:20260617T200000Z
SUMMARY:(+) MuKo-Sitzung (MG Alpenrösli Gommiswald)
UID:3148678
URL:https://web.konzertmeister.app/appointment/3148678
LOCATION:Musikzimmer
DESCRIPTION:Sonstiges
END:VEVENT
BEGIN:VEVENT
DTSTAMP:20260424T142827Z
DTSTART:20260618T180000Z
DTEND:20260618T200000Z
SUMMARY:(+) Sommerabendkonzert Gommiswald mit JM/PB (MG Alpenrösli Gommiswald)
UID:3212971
URL:https://web.konzertmeister.app/appointment/3212971
LOCATION:Schreinerei Kaufmann Gommiswald
CATEGORIES:Statistik,Website
DESCRIPTION:Auftritt - Gem. separatem Arbeitsplan / Gemeinsam mit Jugendmusik sowie Piccolo-Band
END:VEVENT
BEGIN:VEVENT
DTSTAMP:20260424T142827Z
DTSTART:20260622T173000Z
DTEND:20260622T200000Z
SUMMARY:(+) Vorstandsitzung (MG Alpenrösli Gommiswald)
UID:3871880
URL:https://web.konzertmeister.app/appointment/3871880
CATEGORIES:Sitzung
DESCRIPTION:Sonstiges
END:VEVENT
BEGIN:VEVENT
DTSTAMP:20260424T142827Z
DTSTART:20260625T180000Z
DTEND:20260625T200000Z
SUMMARY:(+) Sommerabendkonzert Uetliburg (MG Alpenrösli Gommiswald)
UID:3212972
URL:https://web.konzertmeister.app/appointment/3212972
LOCATION:Noch offen
CATEGORIES:Statistik,Website
DESCRIPTION:Auftritt - Gem. separatem Arbeitsplan
END:VEVENT
BEGIN:VEVENT
DTSTAMP:20260424T142827Z
DTSTART:20260702T180000Z
DTEND:20260702T200000Z
SUMMARY:(+) Sommerabendkonzert Rieden (MG Alpenrösli Gommiswald)
UID:3212973
URL:https://web.konzertmeister.app/appointment/3212973
LOCATION:Rainhalle Rieden
CATEGORIES:Statistik,Website
DESCRIPTION:Auftritt - Gem. separatem Arbeitsplan
END:VEVENT
BEGIN:VEVENT
DTSTAMP:20260424T142827Z
DTSTART:20260806T180000Z
DTEND:20260806T200000Z
SUMMARY:(+) Musikprobe (MG Alpenrösli Gommiswald)
UID:3213008
URL:https://web.konzertmeister.app/appointment/3213008
GEO:47.2326237;9.0239268
LOCATION:Rietwiesstrasse 11\, 8737 Gommiswald\, Schweiz
CATEGORIES:Statistik,Gesamtprobe,Registerprobe
DESCRIPTION:Probe
END:VEVENT
BEGIN:VEVENT
DTSTAMP:20260424T142827Z
DTSTART:20260809T090000Z
DTEND:20260809T110000Z
SUMMARY:(+) Alpgottesdienst (MG Alpenrösli Gommiswald)
UID:3212975
URL:https://web.konzertmeister.app/appointment/3212975
GEO:47.244451;9.061876
LOCATION:Alp Egg 5\, 8738 Uetliburg SG\, Schweiz
CATEGORIES:Statistik,Website
DESCRIPTION:Auftritt - Bei schlecht Wetter findet der Gottesdienst um 10:30 Uhr in der Kirche Gommiswald statt
END:VEVENT
BEGIN:VEVENT
DTSTAMP:20260424T142827Z
DTSTART:20260812T173000Z
DTEND:20260812T200000Z
SUMMARY:(+) Gemeinsame Sitzung mit Muko\, JuFö\, Vorstand (MG Alpenrösli Gommiswald)
UID:3871889
URL:https://web.konzertmeister.app/appointment/3871889
CATEGORIES:Sitzung
DESCRIPTION:Sonstiges
END:VEVENT
BEGIN:VEVENT
DTSTAMP:20260424T142827Z
DTSTART:20260814T180000Z
DTEND:20260814T200000Z
SUMMARY:(+) Sommerabendkonzert mit Gastverein (MG Alpenrösli Gommiswald)
UID:3212976
URL:https://web.konzertmeister.app/appointment/3212976
LOCATION:Primarium Gommiswald
CATEGORIES:Statistik,Website
DESCRIPTION:Auftritt - Gastverein: CMV	/ gem. separatem Arbeitsplan
END:VEVENT
BEGIN:VEVENT
DTSTAMP:20260424T142827Z
DTSTART:20260820T180000Z
DTEND:20260820T200000Z
SUMMARY:(+) Öffentliche Schnupper-Probe (MG Alpenrösli Gommiswald)
UID:3212977
URL:https://web.konzertmeister.app/appointment/3212977
LOCATION:Gemeindesaal Gommiswald
CATEGORIES:Statistik,Website,Gesamtprobe
DESCRIPTION:Probe
END:VEVENT
BEGIN:VEVENT
DTSTAMP:20260424T142827Z
DTSTART:20260827T180000Z
DTEND:20260827T200000Z
SUMMARY:(+) Musikprobe (MG Alpenrösli Gommiswald)
UID:3213018
URL:https://web.konzertmeister.app/appointment/3213018
GEO:47.2326237;9.0239268
LOCATION:Rietwiesstrasse 11\, 8737 Gommiswald\, Schweiz
CATEGORIES:Statistik,Gesamtprobe,Registerprobe
DESCRIPTION:Probe
END:VEVENT
BEGIN:VEVENT
DTSTAMP:20260424T142827Z
DTSTART:20260903T180000Z
DTEND:20260903T200000Z
SUMMARY:(+) Musikprobe (MG Alpenrösli Gommiswald)
UID:3213022
URL:https://web.konzertmeister.app/appointment/3213022
GEO:47.2326237;9.0239268
LOCATION:Rietwiesstrasse 11\, 8737 Gommiswald\, Schweiz
CATEGORIES:Statistik,Gesamtprobe,Registerprobe
DESCRIPTION:Probe
END:VEVENT
BEGIN:VEVENT
DTSTAMP:20260424T142827Z
DTSTART:20260905T113000Z
DTEND:20260905T143000Z
SUMMARY:(+) Hochzeit Jeanine & Sandro Fritschi (MG Alpenrösli Gommiswald)
UID:3661448
URL:https://web.konzertmeister.app/appointment/3661448
GEO:47.2307599;9.022846
LOCATION:Dorfplatz 12\, 8737 Gommiswald\, Schweiz
CATEGORIES:Statistik
DESCRIPTION:Auftritt
END:VEVENT
BEGIN:VEVENT
DTSTAMP:20260424T142827Z
DTSTART:20260909T173000Z
DTEND:20260909T200000Z
SUMMARY:(+) MuKo-Sitzung (MG Alpenrösli Gommiswald)
UID:3148674
URL:https://web.konzertmeister.app/appointment/3148674
LOCATION:Aula Primarium
DESCRIPTION:Sonstiges
END:VEVENT
BEGIN:VEVENT
DTSTAMP:20260424T142827Z
DTSTART:20260910T180000Z
DTEND:20260910T200000Z
SUMMARY:(+) Musikprobe (MG Alpenrösli Gommiswald)
UID:3213009
URL:https://web.konzertmeister.app/appointment/3213009
GEO:47.2326237;9.0239268
LOCATION:Rietwiesstrasse 11\, 8737 Gommiswald\, Schweiz
CATEGORIES:Statistik,Gesamtprobe,Registerprobe
DESCRIPTION:Probe
END:VEVENT
BEGIN:VEVENT
DTSTAMP:20260424T142827Z
DTSTART:20260912T124500Z
DTEND:20260912T130000Z
SUMMARY:TP: Ständchen Tertianum
UID:3212979240811
GEO:47.230062;9.026801
LOCATION:Riedenstrasse 22\, 8737 Gommiswald\, Schweiz
END:VEVENT
BEGIN:VEVENT
DTSTAMP:20260424T142827Z
DTSTART:20260912T130000Z
DTEND:20260912T150000Z
SUMMARY:(+) Ständchen Tertianum (MG Alpenrösli Gommiswald)
UID:3212979
URL:https://web.konzertmeister.app/appointment/3212979
GEO:47.230062;9.026801
LOCATION:Riedenstrasse 22\, 8737 Gommiswald\, Schweiz
CATEGORIES:Statistik,Website
DESCRIPTION:Auftritt
END:VEVENT
BEGIN:VEVENT
DTSTAMP:20260424T142827Z
DTSTART:20260912T150000Z
DTEND:20260912T180000Z
SUMMARY:(+) Jubilarenanlass der Gemeinde Gommiswald (MG Alpenrösli Gommiswald)
UID:3212980
URL:https://web.konzertmeister.app/appointment/3212980
LOCATION:Gemeindesaal Gommiswald
CATEGORIES:Statistik
DESCRIPTION:Auftritt
END:VEVENT
BEGIN:VEVENT
DTSTAMP:20260424T142827Z
DTSTART:20260914T173000Z
DTEND:20260914T200000Z
SUMMARY:(+) Vorstandsitzung (MG Alpenrösli Gommiswald)
UID:3871894
URL:https://web.konzertmeister.app/appointment/3871894
CATEGORIES:Sitzung
DESCRIPTION:Sonstiges
END:VEVENT
BEGIN:VEVENT
DTSTAMP:20260424T142827Z
DTSTART:20260917T180000Z
DTEND:20260917T200000Z
SUMMARY:(+) Musikprobe (MG Alpenrösli Gommiswald)
UID:3213014
URL:https://web.konzertmeister.app/appointment/3213014
GEO:47.2326237;9.0239268
LOCATION:Rietwiesstrasse 11\, 8737 Gommiswald\, Schweiz
CATEGORIES:Statistik,Gesamtprobe,Registerprobe
DESCRIPTION:Probe
END:VEVENT
BEGIN:VEVENT
DTSTAMP:20260424T142827Z
DTSTART:20260924T180000Z
DTEND:20260924T190000Z
SUMMARY:(+) Musikprobe (MG Alpenrösli Gommiswald)
UID:3213017
URL:https://web.konzertmeister.app/appointment/3213017
GEO:47.2326237;9.0239268
LOCATION:Rietwiesstrasse 11\, 8737 Gommiswald\, Schweiz
CATEGORIES:Statistik,Gesamtprobe,Registerprobe
DESCRIPTION:Probe
END:VEVENT
BEGIN:VEVENT
DTSTAMP:20260424T142827Z
DTSTART:20260924T190000Z
DTEND:20260924T210000Z
SUMMARY:(+) Vereinsversammlung (MG Alpenrösli Gommiswald)
UID:3212981
URL:https://web.konzertmeister.app/appointment/3212981
LOCATION:Gemeindesaal Gommiswald
CATEGORIES:Statistik,Versammlung
DESCRIPTION:Sonstiges - Obligatorisch für alle Mitglieder
END:VEVENT
BEGIN:VEVENT
DTSTAMP:20260424T142827Z
DTSTART:20260925T160000Z
DTEND:20260925T210000Z
SUMMARY:(+) Vorstandsessen (MG Alpenrösli Gommiswald)
UID:3458361
URL:https://web.konzertmeister.app/appointment/3458361
DESCRIPTION:Sonstiges
END:VEVENT
BEGIN:VEVENT
DTSTAMP:20260424T142827Z
DTSTART:20261001T180000Z
DTEND:20261001T200000Z
SUMMARY:(+) Musikprobe (MG Alpenrösli Gommiswald)
UID:3213020
URL:https://web.konzertmeister.app/appointment/3213020
GEO:47.2326237;9.0239268
LOCATION:Rietwiesstrasse 11\, 8737 Gommiswald\, Schweiz
CATEGORIES:Statistik,Gesamtprobe,Registerprobe
DESCRIPTION:Probe
END:VEVENT
BEGIN:VEVENT
DTSTAMP:20260424T142827Z
DTSTART:20261008T180000Z
DTEND:20261008T200000Z
SUMMARY:(+) Musikprobe (MG Alpenrösli Gommiswald)
UID:3213023
URL:https://web.konzertmeister.app/appointment/3213023
GEO:47.2326237;9.0239268
LOCATION:Rietwiesstrasse 11\, 8737 Gommiswald\, Schweiz
CATEGORIES:Statistik,Gesamtprobe,Registerprobe
DESCRIPTION:Probe
END:VEVENT
BEGIN:VEVENT
DTSTAMP:20260424T142827Z
DTSTART:20261015T180000Z
DTEND:20261015T200000Z
SUMMARY:(+) Musikprobe (MG Alpenrösli Gommiswald)
UID:3213011
URL:https://web.konzertmeister.app/appointment/3213011
GEO:47.2326237;9.0239268
LOCATION:Rietwiesstrasse 11\, 8737 Gommiswald\, Schweiz
CATEGORIES:Statistik,Gesamtprobe,Registerprobe
DESCRIPTION:Probe
END:VEVENT
BEGIN:VEVENT
DTSTAMP:20260424T142827Z
DTSTART:20261022T180000Z
DTEND:20261022T200000Z
SUMMARY:(+) Musikprobe (MG Alpenrösli Gommiswald)
UID:3213012
URL:https://web.konzertmeister.app/appointment/3213012
GEO:47.2326237;9.0239268
LOCATION:Rietwiesstrasse 11\, 8737 Gommiswald\, Schweiz
CATEGORIES:Statistik,Gesamtprobe,Registerprobe
DESCRIPTION:Probe
END:VEVENT
BEGIN:VEVENT
DTSTAMP:20260424T142827Z
DTSTART:20261025T070000Z
DTEND:20261025T113000Z
SUMMARY:(+) Probemorgen (MG Alpenrösli Gommiswald)
UID:3212982
URL:https://web.konzertmeister.app/appointment/3212982
LOCATION:Gemeindesaal Gommiswald
CATEGORIES:Statistik
DESCRIPTION:Probe
END:VEVENT
BEGIN:VEVENT
DTSTAMP:20260424T142827Z
DTSTART:20261029T190000Z
DTEND:20261029T210000Z
SUMMARY:(+) Musikprobe (MG Alpenrösli Gommiswald)
UID:3213015
URL:https://web.konzertmeister.app/appointment/3213015
GEO:47.2326237;9.0239268
LOCATION:Rietwiesstrasse 11\, 8737 Gommiswald\, Schweiz
CATEGORIES:Statistik,Gesamtprobe,Registerprobe
DESCRIPTION:Probe
END:VEVENT
BEGIN:VEVENT
DTSTAMP:20260424T142827Z
DTSTART:20261105T190000Z
DTEND:20261105T210000Z
SUMMARY:(+) Musikprobe (MG Alpenrösli Gommiswald)
UID:3213019
URL:https://web.konzertmeister.app/appointment/3213019
GEO:47.2326237;9.0239268
LOCATION:Rietwiesstrasse 11\, 8737 Gommiswald\, Schweiz
CATEGORIES:Statistik,Gesamtprobe,Registerprobe
DESCRIPTION:Probe
END:VEVENT
BEGIN:VEVENT
DTSTAMP:20260424T142827Z
DTSTART:20261109T183000Z
DTEND:20261109T210000Z
SUMMARY:(+) MuKo-Sitzung (MG Alpenrösli Gommiswald)
UID:3148676
URL:https://web.konzertmeister.app/appointment/3148676
DESCRIPTION:Sonstiges
END:VEVENT
BEGIN:VEVENT
DTSTAMP:20260424T142827Z
DTSTART:20261112T190000Z
DTEND:20261112T210000Z
SUMMARY:(+) Musikprobe (MG Alpenrösli Gommiswald)
UID:3213021
URL:https://web.konzertmeister.app/appointment/3213021
GEO:47.2326237;9.0239268
LOCATION:Rietwiesstrasse 11\, 8737 Gommiswald\, Schweiz
CATEGORIES:Statistik,Gesamtprobe,Registerprobe
DESCRIPTION:Probe
END:VEVENT
BEGIN:VEVENT
DTSTAMP:20260424T142827Z
DTSTART:20261116T183000Z
DTEND:20261116T210000Z
SUMMARY:(+) Vorstandsitzung (MG Alpenrösli Gommiswald)
UID:3871941
URL:https://web.konzertmeister.app/appointment/3871941
CATEGORIES:Sitzung
DESCRIPTION:Sonstiges
END:VEVENT
BEGIN:VEVENT
DTSTAMP:20260424T142827Z
DTSTART:20261119T190000Z
DTEND:20261119T210000Z
SUMMARY:(+) Musikprobe (MG Alpenrösli Gommiswald)
UID:3213010
URL:https://web.konzertmeister.app/appointment/3213010
GEO:47.2326237;9.0239268
LOCATION:Rietwiesstrasse 11\, 8737 Gommiswald\, Schweiz
CATEGORIES:Statistik,Gesamtprobe,Registerprobe
DESCRIPTION:Probe
END:VEVENT
BEGIN:VEVENT
DTSTAMP:20260424T142827Z
DTSTART:20261126T190000Z
DTEND:20261126T210000Z
SUMMARY:(+) Musikprobe (MG Alpenrösli Gommiswald)
UID:3213025
URL:https://web.konzertmeister.app/appointment/3213025
GEO:47.2326237;9.0239268
LOCATION:Rietwiesstrasse 11\, 8737 Gommiswald\, Schweiz
CATEGORIES:Statistik,Gesamtprobe,Registerprobe
DESCRIPTION:Probe
END:VEVENT
BEGIN:VEVENT
DTSTAMP:20260424T142827Z
DTSTART:20261129T070000Z
DTEND:20261129T113000Z
SUMMARY:(+) Probemorgen (MG Alpenrösli Gommiswald)
UID:3212983
URL:https://web.konzertmeister.app/appointment/3212983
LOCATION:Gemeindesaal Gommiswald
CATEGORIES:Statistik,Gesamtprobe
DESCRIPTION:Probe
END:VEVENT
BEGIN:VEVENT
DTSTAMP:20260424T142827Z
DTSTART:20261203T190000Z
DTEND:20261203T210000Z
SUMMARY:(+) Musikprobe (MG Alpenrösli Gommiswald)
UID:3213026
URL:https://web.konzertmeister.app/appointment/3213026
GEO:47.2326237;9.0239268
LOCATION:Rietwiesstrasse 11\, 8737 Gommiswald\, Schweiz
CATEGORIES:Statistik,Gesamtprobe,Registerprobe
DESCRIPTION:Probe
END:VEVENT
BEGIN:VEVENT
DTSTAMP:20260424T142827Z
DTSTART:20261210T190000Z
DTEND:20261210T210000Z
SUMMARY:(+) Musikprobe (MG Alpenrösli Gommiswald)
UID:3213028
URL:https://web.konzertmeister.app/appointment/3213028
GEO:47.2326237;9.0239268
LOCATION:Rietwiesstrasse 11\, 8737 Gommiswald\, Schweiz
CATEGORIES:Statistik,Gesamtprobe,Registerprobe
DESCRIPTION:Probe
END:VEVENT
BEGIN:VEVENT
DTSTAMP:20260424T142827Z
DTSTART:20261215T183000Z
DTEND:20261215T210000Z
SUMMARY:(+) Vorstandsitzung (MG Alpenrösli Gommiswald)
UID:3871899
URL:https://web.konzertmeister.app/appointment/3871899
CATEGORIES:Sitzung
DESCRIPTION:Sonstiges
END:VEVENT
BEGIN:VEVENT
DTSTAMP:20260424T142827Z
DTSTART:20261217T190000Z
DTEND:20261217T210000Z
SUMMARY:(+) Musikprobe (MG Alpenrösli Gommiswald)
UID:3213029
URL:https://web.konzertmeister.app/appointment/3213029
GEO:47.2326237;9.0239268
LOCATION:Rietwiesstrasse 11\, 8737 Gommiswald\, Schweiz
CATEGORIES:Statistik,Gesamtprobe,Registerprobe
DESCRIPTION:Probe
END:VEVENT
BEGIN:VEVENT
DTSTAMP:20260424T142827Z
DTSTART:20270107T190000Z
DTEND:20270107T210000Z
SUMMARY:(+) Musikprobe / Hauptprobe JK (MG Alpenrösli Gommiswald)
UID:3213027
URL:https://web.konzertmeister.app/appointment/3213027
GEO:47.2326237;9.0239268
LOCATION:Rietwiesstrasse 11\, 8737 Gommiswald\, Schweiz
CATEGORIES:Statistik,Gesamtprobe,Registerprobe
DESCRIPTION:Probe
END:VEVENT
BEGIN:VEVENT
DTSTAMP:20260424T142827Z
DTSTART:20270109T123000Z
DTEND:20270109T153000Z
SUMMARY:(+) Jahreskonzert 2027 Nachmittagsaufführung (MG Alpenrösli Gommiswald)
UID:3212984
URL:https://web.konzertmeister.app/appointment/3212984
GEO:47.2326237;9.0239268
LOCATION:Rietwiesstrasse 11\, 8737 Gommiswald\, Schweiz
CATEGORIES:Statistik,Website
DESCRIPTION:Auftritt
END:VEVENT
BEGIN:VEVENT
DTSTAMP:20260424T142827Z
DTSTART:20270109T190000Z
DTEND:20270109T223000Z
SUMMARY:(+) Jahreskonzert 2027 (MG Alpenrösli Gommiswald)
UID:3212985
URL:https://web.konzertmeister.app/appointment/3212985
GEO:47.2326237;9.0239268
LOCATION:Rietwiesstrasse 11\, 8737 Gommiswald\, Schweiz
CATEGORIES:Statistik,Website
DESCRIPTION:Auftritt
END:VEVENT
BEGIN:VEVENT
DTSTAMP:20260424T142827Z
DTSTART:20270122T190000Z
DTEND:20270122T220000Z
SUMMARY:(+) Jahreskonzert 2027 / Freitagabendaufführung (MG Alpenrösli Gommiswald)
UID:3212986
URL:https://web.konzertmeister.app/appointment/3212986
GEO:47.2326237;9.0239268
LOCATION:Rietwiesstrasse 11\, 8737 Gommiswald\, Schweiz
CATEGORIES:Statistik,Website
DESCRIPTION:Auftritt - Konzertbestuhlung
END:VEVENT
BEGIN:VEVENT
DTSTAMP:20260424T142827Z
DTSTART:20270123T190000Z
DTEND:20270123T223000Z
SUMMARY:(+) Jahreskonzert 2027 (MG Alpenrösli Gommiswald)
UID:3212987
URL:https://web.konzertmeister.app/appointment/3212987
GEO:47.2326237;9.0239268
LOCATION:Rietwiesstrasse 11\, 8737 Gommiswald\, Schweiz
CATEGORIES:Statistik,Website
DESCRIPTION:Probe
END:VEVENT
BEGIN:VEVENT
DTSTAMP:20260424T142827Z
DTSTART:20270127T183000Z
DTEND:20270127T210000Z
SUMMARY:(+) Vorstandsitzung (MG Alpenrösli Gommiswald)
UID:3871901
URL:https://web.konzertmeister.app/appointment/3871901
CATEGORIES:Sitzung
DESCRIPTION:Sonstiges
END:VEVENT
BEGIN:VEVENT
DTSTAMP:20260424T142827Z
DTSTART:20270222T183000Z
DTEND:20270222T210000Z
SUMMARY:(+) Vorstandsitzung (MG Alpenrösli Gommiswald)
UID:3871904
URL:https://web.konzertmeister.app/appointment/3871904
CATEGORIES:Sitzung
DESCRIPTION:Sonstiges
END:VEVENT
BEGIN:VEVENT
DTSTAMP:20260424T142827Z
DTSTART:20270303T183000Z
DTEND:20270303T203000Z
SUMMARY:(+) Nachwuchssitzung mit MS\, MVE & MGA (MG Alpenrösli Gommiswald)
UID:3795012
URL:https://web.konzertmeister.app/appointment/3795012
CATEGORIES:Sitzung
DESCRIPTION:Sonstiges - Organisation durch MGA / Teilnahme nicht von allen nötig\;  je 1 Vertreter aus Gruppe JuFö & Vorstand / Leiter Nachwuchsensembles werden auch zur Sitzung eingeladen
END:VEVENT
BEGIN:VEVENT
DTSTAMP:20260424T142827Z
DTSTART:20270405T173000Z
DTEND:20270405T200000Z
SUMMARY:(+) Vorstandsitzung (MG Alpenrösli Gommiswald)
UID:3871907
URL:https://web.konzertmeister.app/appointment/3871907
CATEGORIES:Sitzung
DESCRIPTION:Sonstiges
END:VEVENT
BEGIN:VEVENT
DTSTAMP:20260424T142827Z
DTSTART;VALUE=DATE:20270605
DTEND;VALUE=DATE:20270607
SUMMARY:(+) Musikreise 2027 (MG Alpenrösli Gommiswald)
UID:3885294
URL:https://web.konzertmeister.app/appointment/3885294
DESCRIPTION:Sonstiges - gem. separater Einladung\n\nLink für Anmeldung (bis 26.April)\nhttps://forms.office.com/Pages/ResponsePage.aspx?id=mKnuTrFWEUCFbNPaFsEBwDBNJhe1xXRPsuOoW7qysWdURFE1RDZKTlVJNU1CQjQ2TjlYQU43U0w3Qy4u&origin=QRCode
END:VEVENT
END:VCALENDAR
