BEGIN:VCALENDAR
PRODID:/Konzermeister/Konzertmeister/DE
CALSCALE:GREGORIAN
NAME:Konzertmeister
VERSION:2.0
BEGIN:VEVENT
DTSTAMP:20260423T090853Z
DTSTART:20260426T080000Z
DTEND:20260426T090000Z
SUMMARY:Fototermin (Blaskapelle St. Ägidius Schmidmühlen e.V.)
UID:3909406
URL:https://web.konzertmeister.app/appointment/3909406
END:VEVENT
END:VCALENDAR
