BEGIN:VCALENDAR
PRODID:/Konzermeister/Konzertmeister/DE
CALSCALE:GREGORIAN
NAME:Konzertmeister
VERSION:2.0
BEGIN:VEVENT
DTSTAMP:20260419T132818Z
DTSTART:20260514T070000Z
DTEND:20260514T080000Z
SUMMARY:Erstkommunion Thumersbach (Bürgermusik Zell am See)
UID:3754421
URL:https://web.konzertmeister.app/appointment/3754421
CATEGORIES:BM Intern
END:VEVENT
END:VCALENDAR
