BEGIN:VCALENDAR
PRODID:/Konzermeister/Konzertmeister/DE
CALSCALE:GREGORIAN
NAME:Konzertmeister
VERSION:2.0
BEGIN:VEVENT
DTSTAMP:20260423T091329Z
DTSTART:20260424T170000Z
DTEND:20260424T174500Z
SUMMARY:Marschprobe Nachwuchsorchester (Blaskapelle St. Ägidius Schmidmühlen e.V.)
UID:3909078
URL:https://web.konzertmeister.app/appointment/3909078
END:VEVENT
END:VCALENDAR
