BEGIN:VCALENDAR
PRODID:/Konzermeister/Konzertmeister/DE
CALSCALE:GREGORIAN
NAME:Konzertmeister
VERSION:2.0
BEGIN:VEVENT
DTSTAMP:20260420T005831Z
DTSTART:20260705T120050Z
DTEND:20260705T193050Z
SUMMARY:Schützenfest Gilde (Musikverein Verl e. V.)
UID:3207832
URL:https://web.konzertmeister.app/appointment/3207832
GEO:51.88043800000001;8.521122199999999
LOCATION:Paderborner Str. 88\, 33415 Verl\, Deutschland
CATEGORIES:Uniform 👮‍♂️,GbR
END:VEVENT
END:VCALENDAR
