BEGIN:VCALENDAR
PRODID:/Konzermeister/Konzertmeister/DE
CALSCALE:GREGORIAN
NAME:Konzertmeister
VERSION:2.0
BEGIN:VEVENT
DTSTAMP:20260419T132551Z
DTSTART:20260817T113000Z
DTEND:20260817T160000Z
SUMMARY:Schützenfest Neheim - Montag Nachmittag (Orchester der Neheimer Jäger)
UID:3509090
URL:https://web.konzertmeister.app/appointment/3509090
GEO:51.453084;7.960842
LOCATION:Neheimer Markt 1A\, 59755 Arnsberg\, Deutschland
END:VEVENT
END:VCALENDAR
