BEGIN:VCALENDAR
PRODID:/Konzermeister/Konzertmeister/DE
CALSCALE:GREGORIAN
NAME:Konzertmeister
VERSION:2.0
BEGIN:VEVENT
DTSTAMP:20260421T083118Z
DTSTART:20260501T080000Z
DTEND:20260501T100000Z
SUMMARY:Maibaum aufstellen Lengenfeld  (Jugendmusikverein Pürgen e.V.)
UID:3343699
URL:https://web.konzertmeister.app/appointment/3343699
CATEGORIES:öffentlich
END:VEVENT
END:VCALENDAR
