BEGIN:VCALENDAR
PRODID:/Konzermeister/Konzertmeister/DE
CALSCALE:GREGORIAN
NAME:Konzertmeister
VERSION:2.0
BEGIN:VEVENT
DTSTAMP:20260420T091804Z
DTSTART:20260418T181500Z
DTEND:20260418T201500Z
SUMMARY:Frühjahrskonzert 2026 (Musikkapelle Kaunertal)
UID:3557099
URL:https://web.konzertmeister.app/appointment/3557099
GEO:47.0310822;10.7469726
LOCATION:Feichten 134\, 6524 Kaunertal\, Österreich
END:VEVENT
END:VCALENDAR
