BEGIN:VCALENDAR
PRODID:/Konzermeister/Konzertmeister/DE
CALSCALE:GREGORIAN
NAME:Konzertmeister
VERSION:2.0
BEGIN:VEVENT
DTSTAMP:20260420T130547Z
DTSTART:20261128T150000Z
DTEND:20261128T160000Z
SUMMARY:Adventskonzert (Musikverein Bettmar von 1981 e.V.)
UID:3425798
URL:https://web.konzertmeister.app/appointment/3425798
END:VEVENT
END:VCALENDAR
