BEGIN:VCALENDAR
PRODID:/Konzermeister/Konzertmeister/DE
CALSCALE:GREGORIAN
NAME:Konzertmeister
VERSION:2.0
BEGIN:VEVENT
DTSTAMP:20260420T005701Z
DTSTART:20260419T090000Z
DTEND:20260419T150000Z
SUMMARY:Musikalischer Frühlingsschoppen des Musikverein Verl e. V. (Schülerorchester Verl)
UID:3514998
URL:https://web.konzertmeister.app/appointment/3514998
GEO:51.8800658;8.5430195
LOCATION:Schmiedestrang 168\, 33415 Verl\, Deutschland
CATEGORIES:Polo-Shirt,Gesamtverein,Jacke
END:VEVENT
END:VCALENDAR
