BEGIN:VCALENDAR
PRODID:/Konzermeister/Konzertmeister/DE
CALSCALE:GREGORIAN
NAME:Konzertmeister
VERSION:2.0
BEGIN:VEVENT
DTSTAMP:20260419T132513Z
DTSTART:20260816T111500Z
DTEND:20260816T160000Z
SUMMARY:Schützenfest Neheim - Sonntag (Orchester der Neheimer Jäger)
UID:3509071
URL:https://web.konzertmeister.app/appointment/3509071
GEO:51.453084;7.960842
LOCATION:Neheimer Markt 1A\, 59755 Arnsberg\, Deutschland
END:VEVENT
END:VCALENDAR
