BEGIN:VCALENDAR
PRODID:/Konzermeister/Konzertmeister/DE
CALSCALE:GREGORIAN
NAME:Konzertmeister
VERSION:2.0
BEGIN:VEVENT
DTSTAMP:20260420T115355Z
DTSTART:20260712T120000Z
DTEND:20260712T160059Z
SUMMARY:Schützenfest Heepen (Jugendorchester Verl)
UID:3798088
URL:https://web.konzertmeister.app/appointment/3798088
END:VEVENT
END:VCALENDAR
