BEGIN:VCALENDAR
PRODID:/Konzermeister/Konzertmeister/DE
CALSCALE:GREGORIAN
NAME:Konzertmeister
VERSION:2.0
BEGIN:VEVENT
DTSTAMP:20260420T230417Z
DTSTART:20260422T170000Z
DTEND:20260422T180000Z
SUMMARY:Registerprobe Holz  (Musikverein Schwabacher Blasmusik e.V.)
UID:3847559
URL:https://web.konzertmeister.app/appointment/3847559
END:VEVENT
END:VCALENDAR
