BEGIN:VCALENDAR
PRODID:/Konzermeister/Konzertmeister/DE
CALSCALE:GREGORIAN
NAME:Konzertmeister
VERSION:2.0
BEGIN:VEVENT
DTSTAMP:20260419T132133Z
DTSTART:20260529T180000Z
DTEND:20260529T190000Z
SUMMARY:Standkonzert (MK Brannenburg)
UID:3536241
URL:https://web.konzertmeister.app/appointment/3536241
LOCATION:Pavillon
CATEGORIES:Standkonzert
END:VEVENT
END:VCALENDAR
