BEGIN:VCALENDAR
PRODID:/Konzermeister/Konzertmeister/DE
CALSCALE:GREGORIAN
NAME:Konzertmeister
VERSION:2.0
BEGIN:VEVENT
DTSTAMP:20260423T062424Z
DTSTART:20260425T083000Z
DTEND:20260425T113000Z
SUMMARY:FOW: Store Ruler Challenge 04/25 - Trinity-Zyklus (Termine in Der Spielspass)
UID:3806376
URL:https://web.konzertmeister.app/appointment/3806376
LOCATION:Hauptgeschäft
CATEGORIES:Eigenes Deck nötig!
END:VEVENT
END:VCALENDAR
