BEGIN:VCALENDAR
PRODID:/Konzermeister/Konzertmeister/DE
CALSCALE:GREGORIAN
NAME:Konzertmeister
VERSION:2.0
BEGIN:VEVENT
DTSTAMP:20260425T123717Z
DTSTART:20260604T180000Z
DTEND:20260604T200000Z
SUMMARY:Probe (Musikverein Geisfeld 1965 e.V.)
UID:3862923
URL:https://web.konzertmeister.app/appointment/3862923
LOCATION:Haus der Begegnung Thalfang
END:VEVENT
END:VCALENDAR
