BEGIN:VCALENDAR
PRODID:/Konzermeister/Konzertmeister/DE
CALSCALE:GREGORIAN
NAME:Konzertmeister
VERSION:2.0
BEGIN:VEVENT
DTSTAMP:20260423T062550Z
DTSTART:20260507T170000Z
DTEND:20260507T215900Z
SUMMARY:YGO: OTS Turnier -  Mai - #2 (Termine in Der Spielspass)
UID:3863149
URL:https://web.konzertmeister.app/appointment/3863149
LOCATION:Hauptgeschäft
CATEGORIES:Eigenes Deck nötig!,Kostenpflichtig!
END:VEVENT
END:VCALENDAR
