BEGIN:VCALENDAR
PRODID:/Konzermeister/Konzertmeister/DE
CALSCALE:GREGORIAN
NAME:Konzertmeister
VERSION:2.0
BEGIN:VEVENT
DTSTAMP:20260424T133357Z
DTSTART:20260522T173000Z
DTEND:20260522T193000Z
SUMMARY:Marschprobe  (Stadtkapelle Schwanenstadt)
UID:3876142
URL:https://web.konzertmeister.app/appointment/3876142
LOCATION:Parkplatz Transporte Obermair 
END:VEVENT
END:VCALENDAR
