BEGIN:VCALENDAR
PRODID:/Konzermeister/Konzertmeister/DE
CALSCALE:GREGORIAN
NAME:Konzertmeister
VERSION:2.0
BEGIN:VEVENT
DTSTAMP:20260423T062637Z
DTSTART:20260428T080000Z
DTEND:20260428T080100Z
SUMMARY:FOW: Wanderer Liga - April #5/5 (Termine in Der Spielspass)
UID:3806453
URL:https://web.konzertmeister.app/appointment/3806453
LOCATION:Discord
CATEGORIES:Eigenes Deck nötig!,Online!
END:VEVENT
END:VCALENDAR
