BEGIN:VCALENDAR
PRODID:/Konzermeister/Konzertmeister/DE
CALSCALE:GREGORIAN
NAME:Konzertmeister
VERSION:2.0
BEGIN:VEVENT
DTSTAMP:20260419T134352Z
DTSTART;VALUE=DATE:20260802
DTEND;VALUE=DATE:20260803
SUMMARY:Jungmusikonzert (MV Peterskirchen)
UID:3627348
URL:https://web.konzertmeister.app/appointment/3627348
END:VEVENT
END:VCALENDAR
