BEGIN:VCALENDAR
PRODID:/Konzermeister/Konzertmeister/DE
CALSCALE:GREGORIAN
NAME:Konzertmeister
VERSION:2.0
BEGIN:VEVENT
DTSTAMP:20260419T133309Z
DTSTART:20260321T073000Z
DTEND:20260321T143000Z
SUMMARY:Probentag 2026 (Musikkapelle Kaunertal)
UID:3557087
URL:https://web.konzertmeister.app/appointment/3557087
END:VEVENT
END:VCALENDAR
