BEGIN:VCALENDAR
PRODID:/Konzermeister/Konzertmeister/DE
CALSCALE:GREGORIAN
NAME:Konzertmeister
VERSION:2.0
BEGIN:VEVENT
DTSTAMP:20260423T062722Z
DTSTART:20260425T130000Z
DTEND:20260425T180000Z
SUMMARY:PKM: Herausforderung - April (Termine in Der Spielspass)
UID:3685304
URL:https://web.konzertmeister.app/appointment/3685304
URL:https://rk9.gg/login?dest=/decklist/index
LOCATION:Hauptgeschäft
CATEGORIES:Eigenes Deck nötig!,Kostenpflichtig!
END:VEVENT
END:VCALENDAR
