BEGIN:VCALENDAR
PRODID:/Konzermeister/Konzertmeister/DE
CALSCALE:GREGORIAN
NAME:Konzertmeister
VERSION:2.0
BEGIN:VEVENT
DTSTAMP:20260425T124344Z
DTSTART:20260614T090000Z
DTEND:20260614T103000Z
SUMMARY:125 Jahre Freiwillige Feuerwehr Thalfang  (Musikverein Geisfeld 1965 e.V.)
UID:3297849
URL:https://web.konzertmeister.app/appointment/3297849
GEO:49.7500864000000007081325748004019260406494140625;7.00095309999999937389247861574403941631317138671875
LOCATION:Charlottenhöhe 9\, 54424 Thalfang\, Deutschland
END:VEVENT
END:VCALENDAR
