BEGIN:VCALENDAR
PRODID:/Konzermeister/Konzertmeister/DE
CALSCALE:GREGORIAN
NAME:Konzertmeister
VERSION:2.0
BEGIN:VEVENT
DTSTAMP:20260424T133328Z
DTSTART:20260425T150000Z
DTEND:20260425T170000Z
SUMMARY:Einspielprobe im Stadtsaal - Probenbeginn (Stadtkapelle Schwanenstadt)
UID:3466516
URL:https://web.konzertmeister.app/appointment/3466516
END:VEVENT
END:VCALENDAR
