BEGIN:VCALENDAR
PRODID:/Konzermeister/Konzertmeister/DE
CALSCALE:GREGORIAN
NAME:Konzertmeister
VERSION:2.0
BEGIN:VEVENT
DTSTAMP:20260419T132720Z
DTSTART;VALUE=DATE:20261101
DTEND;VALUE=DATE:20261102
SUMMARY:Allerheiligen (MV Peterskirchen)
UID:3627364
URL:https://web.konzertmeister.app/appointment/3627364
END:VEVENT
END:VCALENDAR
