BEGIN:VCALENDAR
PRODID:/Konzermeister/Konzertmeister/DE
CALSCALE:GREGORIAN
NAME:Konzertmeister
VERSION:2.0
BEGIN:VEVENT
DTSTAMP:20260420T010116Z
DTSTART:20260501T035000Z
DTEND:20260501T090000Z
SUMMARY:Maiwecken (Schülerorchester Verl)
UID:3514972
URL:https://web.konzertmeister.app/appointment/3514972
GEO:51.88333;8.506219999999999
LOCATION:Kühlmannweg 13\, 33415 Verl\, Deutschland
CATEGORIES:SOV,JOV
END:VEVENT
END:VCALENDAR
