BEGIN:VCALENDAR
PRODID:/Konzermeister/Konzertmeister/DE
CALSCALE:GREGORIAN
NAME:Konzertmeister
VERSION:2.0
BEGIN:VEVENT
DTSTAMP:20260419T134617Z
DTSTART:20260913T093000Z
DTEND:20260913T123000Z
SUMMARY:Herbstmarkt Frickingen  (Musikverein Denkingen e.V.)
UID:3689993
URL:https://web.konzertmeister.app/appointment/3689993
END:VEVENT
END:VCALENDAR
