BEGIN:VCALENDAR
PRODID:/Konzermeister/Konzertmeister/DE
CALSCALE:GREGORIAN
NAME:Konzertmeister
VERSION:2.0
BEGIN:VEVENT
DTSTAMP:20260420T230503Z
DTSTART:20260429T170000Z
DTEND:20260429T190000Z
SUMMARY:Registerprobe Tiefblech (Musikverein Schwabacher Blasmusik e.V.)
UID:3895427
URL:https://web.konzertmeister.app/appointment/3895427
LOCATION:FBH
END:VEVENT
END:VCALENDAR
