BEGIN:VCALENDAR
PRODID:/Konzermeister/Konzertmeister/DE
CALSCALE:GREGORIAN
NAME:Konzertmeister
VERSION:2.0
BEGIN:VEVENT
DTSTAMP:20260423T090806Z
DTSTART:20260515T170000Z
DTEND:20260515T174500Z
SUMMARY:Probe Nachwuchs (Blaskapelle St. Ägidius Schmidmühlen e.V.)
UID:3909102
URL:https://web.konzertmeister.app/appointment/3909102
END:VEVENT
END:VCALENDAR
