BEGIN:VCALENDAR
PRODID:/Konzermeister/Konzertmeister/DE
CALSCALE:GREGORIAN
NAME:Konzertmeister
VERSION:2.0
BEGIN:VEVENT
DTSTAMP:20260423T062759Z
DTSTART:20260424T170000Z
DTEND:20260424T210000Z
SUMMARY:Saboteur - Offizielles Turnier (Termine in Der Spielspass)
UID:3915699
URL:https://web.konzertmeister.app/appointment/3915699
URL:https://blog.amigo-spiele.de/2026/01/08/saboteur-turnierserie-2026/?media_link=1
END:VEVENT
END:VCALENDAR
