BEGIN:VCALENDAR
PRODID:/Konzermeister/Konzertmeister/DE
CALSCALE:GREGORIAN
NAME:Konzertmeister
VERSION:2.0
BEGIN:VEVENT
DTSTAMP:20260423T062637Z
DTSTART:20260508T170000Z
DTEND:20260508T213000Z
SUMMARY:Spieleabend (Termine in Der Spielspass)
UID:3385763
URL:https://web.konzertmeister.app/appointment/3385763
LOCATION:Hauptgeschäft
END:VEVENT
END:VCALENDAR
