BEGIN:VCALENDAR
PRODID:/Konzermeister/Konzertmeister/DE
CALSCALE:GREGORIAN
NAME:Konzertmeister
VERSION:2.0
BEGIN:VEVENT
DTSTAMP:20260420T092119Z
DTSTART:20260307T170000Z
DTEND:20260308T083000Z
SUMMARY:Gemeinsamer Abend mit Übernachtung (Junges Blasorchester Angelbachtal)
UID:3713807
URL:https://web.konzertmeister.app/appointment/3713807
GEO:49.229257;8.777132
LOCATION:Friedrichstraße 27\, 74918 Angelbachtal\, Germany
CATEGORIES:Vereinsheim,Freizeitaktion
END:VEVENT
END:VCALENDAR
