BEGIN:VCALENDAR
PRODID:/Konzermeister/Konzertmeister/DE
CALSCALE:GREGORIAN
NAME:Konzertmeister
VERSION:2.0
BEGIN:VEVENT
DTSTAMP:20260419T094304Z
DTSTART:20260815T154500Z
DTEND:20260815T180000Z
SUMMARY:Schützenfest Netphen (Musikzug der Freiwilligen Feuerwehr Netphen)
UID:3607725
URL:https://web.konzertmeister.app/appointment/3607725
GEO:50.9171312;8.1045129
LOCATION:An d. Netphe\, 57250 Netphen\, Deutschland
END:VEVENT
END:VCALENDAR
