BEGIN:VCALENDAR
PRODID:/Konzermeister/Konzertmeister/DE
CALSCALE:GREGORIAN
NAME:Konzertmeister
VERSION:2.0
BEGIN:VEVENT
DTSTAMP:20260420T091815Z
DTSTART:20261128T190000Z
DTEND:20261128T210000Z
SUMMARY:Motette in der Tübinger Stiftskirche (Posaunenchor Tübingen)
UID:3578514
URL:https://web.konzertmeister.app/appointment/3578514
GEO:48.5201414;9.0559735
LOCATION:Holzmarkt 1\, 72070 Tübingen\, Deutschland
END:VEVENT
END:VCALENDAR
