BEGIN:VCALENDAR
PRODID:/Konzermeister/Konzertmeister/DE
CALSCALE:GREGORIAN
NAME:Konzertmeister
VERSION:2.0
BEGIN:VEVENT
DTSTAMP:20260420T230453Z
DTSTART:20260420T170000Z
DTEND:20260420T190000Z
SUMMARY:Probe (Musikverein Schwabacher Blasmusik e.V.)
UID:3571264
URL:https://web.konzertmeister.app/appointment/3571264
GEO:49.3275462999999945168383419513702392578125;11.017047399999999157671481953002512454986572265625
LOCATION:Wittelsbacherstraße 4A\, 91126 Schwabach\, Deutschland
END:VEVENT
END:VCALENDAR
