BEGIN:VCALENDAR
PRODID:/Konzermeister/Konzertmeister/DE
CALSCALE:GREGORIAN
NAME:Konzertmeister
VERSION:2.0
BEGIN:VEVENT
DTSTAMP:20260420T090327Z
DTSTART:20260510T114500Z
DTEND:20260510T134500Z
SUMMARY:Pfarrfest (Spielmannszug Höxter-Lüchtringen)
UID:3749896
URL:https://web.konzertmeister.app/appointment/3749896
GEO:51.79375490000000326062945532612502574920654296875;9.4222804000000000002046363078989088535308837890625
LOCATION:An d. Kirche\, 37671 Höxter-Lüchtringen\, Deutschland
END:VEVENT
END:VCALENDAR
