BEGIN:VCALENDAR
PRODID:/Konzermeister/Konzertmeister/DE
CALSCALE:GREGORIAN
NAME:Konzertmeister
VERSION:2.0
BEGIN:VEVENT
DTSTAMP:20260420T230347Z
DTSTART:20260515T170000Z
DTEND:20260515T200000Z
SUMMARY:Vereinsabend mit geselligen Treffen (Musikverein Schwabacher Blasmusik e.V.)
UID:3879528
URL:https://web.konzertmeister.app/appointment/3879528
GEO:49.3275462999999945168383419513702392578125;11.017047399999999157671481953002512454986572265625
LOCATION:Wittelsbacherstraße 4A\, 91126 Schwabach\, Deutschland
CATEGORIES:Veranstaltung
END:VEVENT
END:VCALENDAR
