BEGIN:VCALENDAR
PRODID:/Konzermeister/Konzertmeister/DE
CALSCALE:GREGORIAN
NAME:Konzertmeister
VERSION:2.0
BEGIN:VEVENT
DTSTAMP:20260419T131851Z
DTSTART:20260621T160005Z
DTEND:20260621T183005Z
SUMMARY:mitanond open-air Festival  (Bürgermusik Zell am See)
UID:3614586
URL:https://web.konzertmeister.app/appointment/3614586
LOCATION:Musikpavillon Elisabethpark 
CATEGORIES:Jugend
END:VEVENT
END:VCALENDAR
