BEGIN:VCALENDAR
PRODID:/Konzermeister/Konzertmeister/DE
CALSCALE:GREGORIAN
NAME:Konzertmeister
VERSION:2.0
BEGIN:VEVENT
DTSTAMP:20260423T062545Z
DTSTART:20260501T160000Z
DTEND:20260501T210000Z
SUMMARY:YGO: Core Booster Premiere! zu Blazing Dominion (BLZD) (Termine in Der Spielspass)
UID:3917898
URL:https://web.konzertmeister.app/appointment/3917898
LOCATION:Hauptgeschäft
END:VEVENT
END:VCALENDAR
