BEGIN:VCALENDAR
PRODID:/Konzermeister/Konzertmeister/DE
CALSCALE:GREGORIAN
NAME:Konzertmeister
VERSION:2.0
BEGIN:VEVENT
DTSTAMP:20260419T131943Z
DTSTART:20260901T101500Z
DTEND:20260902T000000Z
SUMMARY:Schützenfest Neuss Dienstag (Musikzug der Freiwilligen Feuerwehr Netphen)
UID:3607766
URL:https://web.konzertmeister.app/appointment/3607766
GEO:50.915025;8.1027101
LOCATION:Jahnstraße 9\, 57250 Netphen\, Deutschland
END:VEVENT
END:VCALENDAR
