BEGIN:VCALENDAR
PRODID:/Konzermeister/Konzertmeister/DE
CALSCALE:GREGORIAN
NAME:Konzertmeister
VERSION:2.0
BEGIN:VEVENT
DTSTAMP:20260424T133548Z
DTSTART:20260424T173000Z
DTEND:20260424T193000Z
SUMMARY:Generalprobe im Stadtsaal  (Stadtkapelle Schwanenstadt)
UID:3466513
URL:https://web.konzertmeister.app/appointment/3466513
END:VEVENT
END:VCALENDAR
