BEGIN:VCALENDAR
PRODID:/Konzermeister/Konzertmeister/DE
CALSCALE:GREGORIAN
NAME:Konzertmeister
VERSION:2.0
BEGIN:VEVENT
DTSTAMP:20260420T090419Z
DTSTART:20261115T170000Z
DTEND:20261115T174500Z
SUMMARY:Volkstrauertag (Musikverein Bettmar von 1981 e.V.)
UID:3426204
URL:https://web.konzertmeister.app/appointment/3426204
END:VEVENT
END:VCALENDAR
