BEGIN:VCALENDAR
PRODID:/Konzermeister/Konzertmeister/DE
CALSCALE:GREGORIAN
NAME:Konzertmeister
VERSION:2.0
BEGIN:VEVENT
DTSTAMP:20260420T115824Z
DTSTART:20260719T121528Z
DTEND:20260719T194528Z
SUMMARY:Schützenfest Kaunitz (Musikverein Verl e. V.)
UID:3207843
URL:https://web.konzertmeister.app/appointment/3207843
GEO:51.8584931;8.5620706
LOCATION:Paderborner Str. 408\, 33415 Verl\, Deutschland
CATEGORIES:Uniform 👮‍♂️,GbR
END:VEVENT
END:VCALENDAR
