BEGIN:VCALENDAR
PRODID:/Konzermeister/Konzertmeister/DE
CALSCALE:GREGORIAN
NAME:Konzertmeister
VERSION:2.0
BEGIN:VEVENT
DTSTAMP:20260423T091041Z
DTSTART:20260508T180000Z
DTEND:20260508T200000Z
SUMMARY:Probe Gr. Orchester (Blaskapelle St. Ägidius Schmidmühlen e.V.)
UID:3909087
URL:https://web.konzertmeister.app/appointment/3909087
END:VEVENT
END:VCALENDAR
