BEGIN:VCALENDAR
PRODID:/Konzermeister/Konzertmeister/DE
CALSCALE:GREGORIAN
NAME:Konzertmeister
VERSION:2.0
BEGIN:VEVENT
DTSTAMP:20260421T101832Z
DTSTART:20260430T160000Z
DTEND:20260430T173000Z
SUMMARY:Maibaum aufstellen - Kaunitz (Jugendorchester Verl)
UID:3911493
URL:https://web.konzertmeister.app/appointment/3911493
GEO:51.8572472999999973808371578343212604522705078125;8.5649107000000004319417712395079433917999267578125
LOCATION:Alter Schulhof 1\, 33415 Verl\, Deutschland
END:VEVENT
END:VCALENDAR
