BEGIN:VCALENDAR
PRODID:/Konzermeister/Konzertmeister/DE
CALSCALE:GREGORIAN
NAME:Konzertmeister
VERSION:2.0
BEGIN:VEVENT
DTSTAMP:20260420T090419Z
DTSTART:20260524T180000Z
DTEND:20260524T200000Z
SUMMARY:Berglerjahrtag | Fackelzug (Marktkapelle Berchtesgaden e.V.)
UID:3377537
URL:https://web.konzertmeister.app/appointment/3377537
GEO:47.6373369;13.0076322
LOCATION:Salzburger Str. 6\, 83471 Berchtesgaden\, Deutschland
CATEGORIES:Standkonzert,mit Trommlerzug,Kirchenzug/Festzug
END:VEVENT
END:VCALENDAR
