BEGIN:VCALENDAR
PRODID:/Konzermeister/Konzertmeister/DE
CALSCALE:GREGORIAN
NAME:Konzertmeister
VERSION:2.0
BEGIN:VEVENT
DTSTAMP:20260423T090949Z
DTSTART:20260515T180000Z
DTEND:20260515T200000Z
SUMMARY:Probe Gr. Orchester (Blaskapelle St. Ägidius Schmidmühlen e.V.)
UID:3909088
URL:https://web.konzertmeister.app/appointment/3909088
END:VEVENT
END:VCALENDAR
