BEGIN:VCALENDAR
PRODID:/Konzermeister/Konzertmeister/DE
CALSCALE:GREGORIAN
NAME:Konzertmeister
VERSION:2.0
BEGIN:VEVENT
DTSTAMP:20260425T124554Z
DTSTART:20260620T080000Z
DTEND:20260620T101500Z
SUMMARY:100 Jahre MV Monzelfeld (Musikverein Geisfeld 1965 e.V.)
UID:3909589
URL:https://web.konzertmeister.app/appointment/3909589
GEO:49.8912961;7.0732785
LOCATION:54 Monzelfeld\, Deutschland
END:VEVENT
END:VCALENDAR
