BEGIN:VCALENDAR
PRODID:/Konzermeister/Konzertmeister/DE
CALSCALE:GREGORIAN
NAME:Konzertmeister
VERSION:2.0
BEGIN:VEVENT
DTSTAMP:20260423T062722Z
DTSTART:20260426T100000Z
DTEND:20260426T170000Z
SUMMARY:PKM: Cup - Quartal 2 (Termine in Der Spielspass)
UID:3685302
URL:https://web.konzertmeister.app/appointment/3685302
URL:https://rk9.gg/login?dest=/decklist/index
LOCATION:Hauptgeschäft
CATEGORIES:Eigenes Deck nötig!,Kostenpflichtig!
END:VEVENT
END:VCALENDAR
