BEGIN:VCALENDAR
PRODID:/Konzermeister/Konzertmeister/DE
CALSCALE:GREGORIAN
NAME:Konzertmeister
VERSION:2.0
BEGIN:VEVENT
DTSTAMP:20260423T090853Z
DTSTART:20260430T170000Z
DTEND:20260430T200000Z
SUMMARY:Weinprobe (Blaskapelle St. Ägidius Schmidmühlen e.V.)
UID:3887927
URL:https://web.konzertmeister.app/appointment/3887927
LOCATION:Probenheim
END:VEVENT
END:VCALENDAR
